BEGIN:VCALENDAR
VERSION:2.0
PRODID:-//ZŠ Košařiska - ECPv5.2.0//NONSGML v1.0//EN
CALSCALE:GREGORIAN
METHOD:PUBLISH
X-WR-CALNAME:ZŠ Košařiska
X-ORIGINAL-URL:https://www.zskosariska.cz
X-WR-CALDESC:Akce na ZŠ Košařiska
BEGIN:VTIMEZONE
TZID:Europe/Prague
BEGIN:DAYLIGHT
TZOFFSETFROM:+0100
TZOFFSETTO:+0200
TZNAME:CEST
DTSTART:20220327T010000
END:DAYLIGHT
BEGIN:STANDARD
TZOFFSETFROM:+0200
TZOFFSETTO:+0100
TZNAME:CET
DTSTART:20221030T010000
END:STANDARD
END:VTIMEZONE
BEGIN:VEVENT
DTSTART;TZID=Europe/Prague:20220921T083000
DTEND;TZID=Europe/Prague:20220921T120000
DTSTAMP:20260421T230927
CREATED:20220902T090701Z
LAST-MODIFIED:20220902T090701Z
UID:2789-1663749000-1663761600@www.zskosariska.cz
SUMMARY:Beskydský azimut mládeže - Biegi przełajowe - Třinec
DESCRIPTION:
URL:https://www.zskosariska.cz/event/beskydsky-azimut-mladeze-biegi-przelajowe-trinec/
END:VEVENT
END:VCALENDAR