BEGIN:VCALENDAR
VERSION:2.0
PRODID:-//ZŠ Košařiska - ECPv5.2.0//NONSGML v1.0//EN
CALSCALE:GREGORIAN
METHOD:PUBLISH
X-WR-CALNAME:ZŠ Košařiska
X-ORIGINAL-URL:https://www.zskosariska.cz
X-WR-CALDESC:Akce na ZŠ Košařiska
BEGIN:VTIMEZONE
TZID:Europe/Prague
BEGIN:DAYLIGHT
TZOFFSETFROM:+0100
TZOFFSETTO:+0200
TZNAME:CEST
DTSTART:20220327T010000
END:DAYLIGHT
BEGIN:STANDARD
TZOFFSETFROM:+0200
TZOFFSETTO:+0100
TZNAME:CET
DTSTART:20221030T010000
END:STANDARD
END:VTIMEZONE
BEGIN:VEVENT
DTSTART;VALUE=DATE:20221107
DTEND;VALUE=DATE:20221108
DTSTAMP:20260421T213557
CREATED:20221024T132952Z
LAST-MODIFIED:20221107T053822Z
UID:2950-1667779200-1667865599@www.zskosariska.cz
SUMMARY:Bold Rabbit - KD Trisia - divadelní představení v AJ (3.\, 4.\, 5. roč.) - przedstawienie teatralne w JA (kl. 3\, 4\, 5)
DESCRIPTION:Sraz na nádraží ČD\, odjezd vlakem v 7:22. \nVstupné 100\,-/žák\, jízdné hradí SRPŠ/MSz
URL:https://www.zskosariska.cz/event/bold-rabbit-kd-trisia-divadelni-predstaveni-v-aj-3-4-5-roc-przedstawienie-teatralne-w-ja-kl-3-4-5/
END:VEVENT
END:VCALENDAR