BEGIN:VCALENDAR
VERSION:2.0
PRODID:-//ZŠ Košařiska - ECPv5.2.0//NONSGML v1.0//EN
CALSCALE:GREGORIAN
METHOD:PUBLISH
X-WR-CALNAME:ZŠ Košařiska
X-ORIGINAL-URL:https://www.zskosariska.cz
X-WR-CALDESC:Akce na ZŠ Košařiska
BEGIN:VTIMEZONE
TZID:Europe/Prague
BEGIN:DAYLIGHT
TZOFFSETFROM:+0100
TZOFFSETTO:+0200
TZNAME:CEST
DTSTART:20220327T010000
END:DAYLIGHT
BEGIN:STANDARD
TZOFFSETFROM:+0200
TZOFFSETTO:+0100
TZNAME:CET
DTSTART:20221030T010000
END:STANDARD
END:VTIMEZONE
BEGIN:VEVENT
DTSTART;TZID=Europe/Prague:20220526T080000
DTEND;TZID=Europe/Prague:20220526T113000
DTSTAMP:20260422T004344
CREATED:20220324T223441Z
LAST-MODIFIED:20220324T223441Z
UID:2222-1653552000-1653564600@www.zskosariska.cz
SUMMARY:Den dětí s IZS - Dzień Dziecka z ISR
DESCRIPTION:
URL:https://www.zskosariska.cz/event/den-deti-s-izs-dzien-dziecka-z-isr/
END:VEVENT
END:VCALENDAR