BEGIN:VCALENDAR
VERSION:2.0
PRODID:-//ZŠ Košařiska - ECPv5.2.0//NONSGML v1.0//EN
CALSCALE:GREGORIAN
METHOD:PUBLISH
X-WR-CALNAME:ZŠ Košařiska
X-ORIGINAL-URL:https://www.zskosariska.cz
X-WR-CALDESC:Akce na ZŠ Košařiska
BEGIN:VTIMEZONE
TZID:Europe/Prague
BEGIN:DAYLIGHT
TZOFFSETFROM:+0100
TZOFFSETTO:+0200
TZNAME:CEST
DTSTART:20210328T010000
END:DAYLIGHT
BEGIN:STANDARD
TZOFFSETFROM:+0200
TZOFFSETTO:+0100
TZNAME:CET
DTSTART:20211031T010000
END:STANDARD
END:VTIMEZONE
BEGIN:VEVENT
DTSTART;TZID=Europe/Prague:20211020T070000
DTEND;TZID=Europe/Prague:20211020T120000
DTSTAMP:20260422T071510
CREATED:20210915T162525Z
LAST-MODIFIED:20210915T162525Z
UID:1288-1634713200-1634731200@www.zskosariska.cz
SUMMARY:Divadlo loutek Ostrava - ZŠ+PZŠ
DESCRIPTION:
URL:https://www.zskosariska.cz/event/divadlo-loutek-ostrava-zspzs/
END:VEVENT
END:VCALENDAR