BEGIN:VCALENDAR
VERSION:2.0
PRODID:-//ZŠ Košařiska - ECPv5.2.0//NONSGML v1.0//EN
CALSCALE:GREGORIAN
METHOD:PUBLISH
X-WR-CALNAME:ZŠ Košařiska
X-ORIGINAL-URL:https://www.zskosariska.cz
X-WR-CALDESC:Akce na ZŠ Košařiska
BEGIN:VTIMEZONE
TZID:Europe/Prague
BEGIN:DAYLIGHT
TZOFFSETFROM:+0100
TZOFFSETTO:+0200
TZNAME:CEST
DTSTART:20210328T010000
END:DAYLIGHT
BEGIN:STANDARD
TZOFFSETFROM:+0200
TZOFFSETTO:+0100
TZNAME:CET
DTSTART:20211031T010000
END:STANDARD
END:VTIMEZONE
BEGIN:VEVENT
DTSTART;TZID=Europe/Prague:20210913T080000
DTEND;TZID=Europe/Prague:20210913T120000
DTSTAMP:20260422T085143
CREATED:20210909T043049Z
LAST-MODIFIED:20210909T043226Z
UID:1251-1631520000-1631534400@www.zskosariska.cz
SUMMARY:Dzień Latawca i Pieczonej Kiełbaski
DESCRIPTION:
URL:https://www.zskosariska.cz/event/dzien-latawca-i-pieczonej-kielbaski/
END:VEVENT
END:VCALENDAR