BEGIN:VCALENDAR
VERSION:2.0
PRODID:-//ZŠ Košařiska - ECPv5.2.0//NONSGML v1.0//EN
CALSCALE:GREGORIAN
METHOD:PUBLISH
X-WR-CALNAME:ZŠ Košařiska
X-ORIGINAL-URL:https://www.zskosariska.cz
X-WR-CALDESC:Akce na ZŠ Košařiska
BEGIN:VTIMEZONE
TZID:Europe/Prague
BEGIN:DAYLIGHT
TZOFFSETFROM:+0100
TZOFFSETTO:+0200
TZNAME:CEST
DTSTART:20230326T010000
END:DAYLIGHT
BEGIN:STANDARD
TZOFFSETFROM:+0200
TZOFFSETTO:+0100
TZNAME:CET
DTSTART:20231029T010000
END:STANDARD
END:VTIMEZONE
BEGIN:VEVENT
DTSTART;TZID=Europe/Prague:20230526T080000
DTEND;TZID=Europe/Prague:20230526T120000
DTSTAMP:20260421T131650
CREATED:20230116T140423Z
LAST-MODIFIED:20230116T140423Z
UID:3269-1685088000-1685102400@www.zskosariska.cz
SUMMARY:Igrzyska Lekkoatletyczne
DESCRIPTION:
URL:https://www.zskosariska.cz/event/igrzyska-lekkoatletyczne/
END:VEVENT
END:VCALENDAR