BEGIN:VCALENDAR
VERSION:2.0
PRODID:-//ZŠ Košařiska - ECPv5.2.0//NONSGML v1.0//EN
CALSCALE:GREGORIAN
METHOD:PUBLISH
X-WR-CALNAME:ZŠ Košařiska
X-ORIGINAL-URL:https://www.zskosariska.cz
X-WR-CALDESC:Akce na ZŠ Košařiska
BEGIN:VTIMEZONE
TZID:Europe/Prague
BEGIN:DAYLIGHT
TZOFFSETFROM:+0100
TZOFFSETTO:+0200
TZNAME:CEST
DTSTART:20230326T010000
END:DAYLIGHT
BEGIN:STANDARD
TZOFFSETFROM:+0200
TZOFFSETTO:+0100
TZNAME:CET
DTSTART:20231029T010000
END:STANDARD
END:VTIMEZONE
BEGIN:VEVENT
DTSTART;TZID=Europe/Prague:20230201T080000
DTEND;TZID=Europe/Prague:20230201T160000
DTSTAMP:20260421T180738
CREATED:20230116T142912Z
LAST-MODIFIED:20230125T123810Z
UID:3282-1675238400-1675267200@www.zskosariska.cz
SUMMARY:Karneval v MŠ - Bílý den - Karnawał w przedszkolu - Dzień Biały
DESCRIPTION:
URL:https://www.zskosariska.cz/event/karneval-v-ms-bily-den-karnawal-w-przedszkolu-dzien-bialy/
END:VEVENT
END:VCALENDAR