BEGIN:VCALENDAR
VERSION:2.0
PRODID:-//ZŠ Košařiska - ECPv5.2.0//NONSGML v1.0//EN
CALSCALE:GREGORIAN
METHOD:PUBLISH
X-WR-CALNAME:ZŠ Košařiska
X-ORIGINAL-URL:https://www.zskosariska.cz
X-WR-CALDESC:Akce na ZŠ Košařiska
BEGIN:VTIMEZONE
TZID:Europe/Prague
BEGIN:DAYLIGHT
TZOFFSETFROM:+0100
TZOFFSETTO:+0200
TZNAME:CEST
DTSTART:20230326T010000
END:DAYLIGHT
BEGIN:STANDARD
TZOFFSETFROM:+0200
TZOFFSETTO:+0100
TZNAME:CET
DTSTART:20231029T010000
END:STANDARD
END:VTIMEZONE
BEGIN:VEVENT
DTSTART;VALUE=DATE:20230206
DTEND;VALUE=DATE:20230211
DTSTAMP:20260421T181100
CREATED:20230116T134416Z
LAST-MODIFIED:20230116T134416Z
UID:3248-1675641600-1676073599@www.zskosariska.cz
SUMMARY:Přerušení provozu MŠ a ŠD - Przedszkole oraz świetlica szkolna nieczynne
DESCRIPTION:
URL:https://www.zskosariska.cz/event/preruseni-provozu-ms-a-sd-przedszkole-oraz-swietlica-szkolna-nieczynne/
END:VEVENT
END:VCALENDAR