BEGIN:VCALENDAR
VERSION:2.0
PRODID:-//ZŠ Košařiska - ECPv5.2.0//NONSGML v1.0//EN
CALSCALE:GREGORIAN
METHOD:PUBLISH
X-WR-CALNAME:ZŠ Košařiska
X-ORIGINAL-URL:https://www.zskosariska.cz
X-WR-CALDESC:Akce na ZŠ Košařiska
BEGIN:VTIMEZONE
TZID:Europe/Prague
BEGIN:DAYLIGHT
TZOFFSETFROM:+0100
TZOFFSETTO:+0200
TZNAME:CEST
DTSTART:20210328T010000
END:DAYLIGHT
BEGIN:STANDARD
TZOFFSETFROM:+0200
TZOFFSETTO:+0100
TZNAME:CET
DTSTART:20211031T010000
END:STANDARD
END:VTIMEZONE
BEGIN:VEVENT
DTSTART;VALUE=DATE:20211025
DTEND;VALUE=DATE:20211027
DTSTAMP:20260422T053805
CREATED:20211021T153441Z
LAST-MODIFIED:20211021T153441Z
UID:1509-1635120000-1635292799@www.zskosariska.cz
SUMMARY:Přerušení provozu MŠ\, Przedszkole\, ŠD\, ŠJ
DESCRIPTION:
URL:https://www.zskosariska.cz/event/preruseni-provozu-ms-przedszkole-sd-sj/
END:VEVENT
END:VCALENDAR