BEGIN:VCALENDAR
VERSION:2.0
PRODID:-//ZŠ Košařiska - ECPv5.2.0//NONSGML v1.0//EN
CALSCALE:GREGORIAN
METHOD:PUBLISH
X-WR-CALNAME:ZŠ Košařiska
X-ORIGINAL-URL:https://www.zskosariska.cz
X-WR-CALDESC:Akce na ZŠ Košařiska
BEGIN:VTIMEZONE
TZID:Europe/Prague
BEGIN:DAYLIGHT
TZOFFSETFROM:+0100
TZOFFSETTO:+0200
TZNAME:CEST
DTSTART:20210328T010000
END:DAYLIGHT
BEGIN:STANDARD
TZOFFSETFROM:+0200
TZOFFSETTO:+0100
TZNAME:CET
DTSTART:20211031T010000
END:STANDARD
END:VTIMEZONE
BEGIN:VEVENT
DTSTART;TZID=Europe/Prague:20211213T080000
DTEND;TZID=Europe/Prague:20211213T100000
DTSTAMP:20260422T034832
CREATED:20211026T143411Z
LAST-MODIFIED:20211026T143532Z
UID:1540-1639382400-1639389600@www.zskosariska.cz
SUMMARY:Preventivní program 2.\, 3. ročník ZŠ
DESCRIPTION:
URL:https://www.zskosariska.cz/event/preventivni-program-2-3-rocnik/
END:VEVENT
END:VCALENDAR