BEGIN:VCALENDAR
VERSION:2.0
PRODID:-//ZŠ Košařiska - ECPv5.2.0//NONSGML v1.0//EN
CALSCALE:GREGORIAN
METHOD:PUBLISH
X-WR-CALNAME:ZŠ Košařiska
X-ORIGINAL-URL:https://www.zskosariska.cz
X-WR-CALDESC:Akce na ZŠ Košařiska
BEGIN:VTIMEZONE
TZID:Europe/Prague
BEGIN:DAYLIGHT
TZOFFSETFROM:+0100
TZOFFSETTO:+0200
TZNAME:CEST
DTSTART:20220327T010000
END:DAYLIGHT
BEGIN:STANDARD
TZOFFSETFROM:+0200
TZOFFSETTO:+0100
TZNAME:CET
DTSTART:20221030T010000
END:STANDARD
END:VTIMEZONE
BEGIN:VEVENT
DTSTART;TZID=Europe/Prague:20221011T080000
DTEND;TZID=Europe/Prague:20221011T120000
DTSTAMP:20260421T194135
CREATED:20220910T101036Z
LAST-MODIFIED:20220910T101036Z
UID:2816-1665475200-1665489600@www.zskosariska.cz
SUMMARY:Preventivní programy - Programy prewencyjne
DESCRIPTION:
URL:https://www.zskosariska.cz/event/preventivni-programy-programy-prewencyjne/
END:VEVENT
END:VCALENDAR