BEGIN:VCALENDAR
VERSION:2.0
PRODID:-//ZŠ Košařiska - ECPv5.2.0//NONSGML v1.0//EN
CALSCALE:GREGORIAN
METHOD:PUBLISH
X-WR-CALNAME:ZŠ Košařiska
X-ORIGINAL-URL:https://www.zskosariska.cz
X-WR-CALDESC:Akce na ZŠ Košařiska
BEGIN:VTIMEZONE
TZID:Europe/Prague
BEGIN:DAYLIGHT
TZOFFSETFROM:+0100
TZOFFSETTO:+0200
TZNAME:CEST
DTSTART:20220327T010000
END:DAYLIGHT
BEGIN:STANDARD
TZOFFSETFROM:+0200
TZOFFSETTO:+0100
TZNAME:CET
DTSTART:20221030T010000
END:STANDARD
END:VTIMEZONE
BEGIN:VEVENT
DTSTART;TZID=Europe/Prague:20221203T140000
DTEND;TZID=Europe/Prague:20221203T150000
DTSTAMP:20260421T180559
CREATED:20221024T133547Z
LAST-MODIFIED:20221024T133547Z
UID:2956-1670076000-1670079600@www.zskosariska.cz
SUMMARY:Program uczniów szkoły - PZKO Milików
DESCRIPTION:
URL:https://www.zskosariska.cz/event/program-uczniow-szkoly-pzko-milikow/
END:VEVENT
END:VCALENDAR