BEGIN:VCALENDAR
VERSION:2.0
PRODID:-//ZŠ Košařiska - ECPv5.2.0//NONSGML v1.0//EN
CALSCALE:GREGORIAN
METHOD:PUBLISH
X-WR-CALNAME:ZŠ Košařiska
X-ORIGINAL-URL:https://www.zskosariska.cz
X-WR-CALDESC:Akce na ZŠ Košařiska
BEGIN:VTIMEZONE
TZID:Europe/Prague
BEGIN:DAYLIGHT
TZOFFSETFROM:+0100
TZOFFSETTO:+0200
TZNAME:CEST
DTSTART:20220327T010000
END:DAYLIGHT
BEGIN:STANDARD
TZOFFSETFROM:+0200
TZOFFSETTO:+0100
TZNAME:CET
DTSTART:20221030T010000
END:STANDARD
END:VTIMEZONE
BEGIN:VEVENT
DTSTART;TZID=Europe/Prague:20221206T160000
DTEND;TZID=Europe/Prague:20221206T180000
DTSTAMP:20260421T180722
CREATED:20221024T133732Z
LAST-MODIFIED:20221024T133732Z
UID:2958-1670342400-1670349600@www.zskosariska.cz
SUMMARY:Setkání s Mikulášem - Spotkanie z Mikołajem - Dołek
DESCRIPTION:
URL:https://www.zskosariska.cz/event/setkani-s-mikulasem-spotkanie-z-mikolajem-dolek/
END:VEVENT
END:VCALENDAR