BEGIN:VCALENDAR
VERSION:2.0
PRODID:-//ZŠ Košařiska - ECPv5.2.0//NONSGML v1.0//EN
CALSCALE:GREGORIAN
METHOD:PUBLISH
X-WR-CALNAME:ZŠ Košařiska
X-ORIGINAL-URL:https://www.zskosariska.cz
X-WR-CALDESC:Akce na ZŠ Košařiska
BEGIN:VTIMEZONE
TZID:Europe/Prague
BEGIN:DAYLIGHT
TZOFFSETFROM:+0100
TZOFFSETTO:+0200
TZNAME:CEST
DTSTART:20220327T010000
END:DAYLIGHT
BEGIN:STANDARD
TZOFFSETFROM:+0200
TZOFFSETTO:+0100
TZNAME:CET
DTSTART:20221030T010000
END:STANDARD
END:VTIMEZONE
BEGIN:VEVENT
DTSTART;TZID=Europe/Prague:20220106T080000
DTEND;TZID=Europe/Prague:20220106T170000
DTSTAMP:20260422T021731
CREATED:20211227T173104Z
LAST-MODIFIED:20211227T173104Z
UID:1921-1641456000-1641488400@www.zskosariska.cz
SUMMARY:Testování žáků školy - testowanie uczniów szkoły
DESCRIPTION:
URL:https://www.zskosariska.cz/event/testovani-zaku-skoly-testowanie-uczniow-szkoly-2/2022-01-06/
END:VEVENT
END:VCALENDAR