BEGIN:VCALENDAR
VERSION:2.0
PRODID:-//ZŠ Košařiska - ECPv5.2.0//NONSGML v1.0//EN
CALSCALE:GREGORIAN
METHOD:PUBLISH
X-WR-CALNAME:ZŠ Košařiska
X-ORIGINAL-URL:https://www.zskosariska.cz
X-WR-CALDESC:Akce na ZŠ Košařiska
BEGIN:VTIMEZONE
TZID:Europe/Prague
BEGIN:DAYLIGHT
TZOFFSETFROM:+0100
TZOFFSETTO:+0200
TZNAME:CEST
DTSTART:20220327T010000
END:DAYLIGHT
BEGIN:STANDARD
TZOFFSETFROM:+0200
TZOFFSETTO:+0100
TZNAME:CET
DTSTART:20221030T010000
END:STANDARD
END:VTIMEZONE
BEGIN:VEVENT
DTSTART;TZID=Europe/Prague:20220618T140000
DTEND;TZID=Europe/Prague:20220618T190000
DTSTAMP:20260421T230620
CREATED:20210915T162856Z
LAST-MODIFIED:20210915T162856Z
UID:1295-1655560800-1655578800@www.zskosariska.cz
SUMMARY:Tradiční radovánky
DESCRIPTION:
URL:https://www.zskosariska.cz/event/tradicni-radovanky/
END:VEVENT
END:VCALENDAR