BEGIN:VCALENDAR
VERSION:2.0
PRODID:-//ZŠ Košařiska - ECPv5.2.0//NONSGML v1.0//EN
CALSCALE:GREGORIAN
METHOD:PUBLISH
X-WR-CALNAME:ZŠ Košařiska
X-ORIGINAL-URL:https://www.zskosariska.cz
X-WR-CALDESC:Akce na ZŠ Košařiska
BEGIN:VTIMEZONE
TZID:Europe/Prague
BEGIN:DAYLIGHT
TZOFFSETFROM:+0100
TZOFFSETTO:+0200
TZNAME:CEST
DTSTART:20220327T010000
END:DAYLIGHT
BEGIN:STANDARD
TZOFFSETFROM:+0200
TZOFFSETTO:+0100
TZNAME:CET
DTSTART:20221030T010000
END:STANDARD
END:VTIMEZONE
BEGIN:VEVENT
DTSTART;TZID=Europe/Prague:20220406T130000
DTEND;TZID=Europe/Prague:20220406T160000
DTSTAMP:20260422T004115
CREATED:20220324T222919Z
LAST-MODIFIED:20220324T222949Z
UID:2216-1649250000-1649260800@www.zskosariska.cz
SUMMARY:Třídní schůzky - wywiadówki
DESCRIPTION:
URL:https://www.zskosariska.cz/event/tridni-schuzky-wywiadowki-2/
END:VEVENT
END:VCALENDAR