BEGIN:VCALENDAR
VERSION:2.0
PRODID:-//ZŠ Košařiska - ECPv5.2.0//NONSGML v1.0//EN
CALSCALE:GREGORIAN
METHOD:PUBLISH
X-WR-CALNAME:ZŠ Košařiska
X-ORIGINAL-URL:https://www.zskosariska.cz
X-WR-CALDESC:Akce na ZŠ Košařiska
BEGIN:VTIMEZONE
TZID:Europe/Prague
BEGIN:DAYLIGHT
TZOFFSETFROM:+0100
TZOFFSETTO:+0200
TZNAME:CEST
DTSTART:20220327T010000
END:DAYLIGHT
BEGIN:STANDARD
TZOFFSETFROM:+0200
TZOFFSETTO:+0100
TZNAME:CET
DTSTART:20221030T010000
END:STANDARD
BEGIN:DAYLIGHT
TZOFFSETFROM:+0100
TZOFFSETTO:+0200
TZNAME:CEST
DTSTART:20230326T010000
END:DAYLIGHT
BEGIN:STANDARD
TZOFFSETFROM:+0200
TZOFFSETTO:+0100
TZNAME:CET
DTSTART:20231029T010000
END:STANDARD
END:VTIMEZONE
BEGIN:VEVENT
DTSTART;VALUE=DATE:20221223
DTEND;VALUE=DATE:20230103
DTSTAMP:20260421T174534
CREATED:20220910T101841Z
LAST-MODIFIED:20220910T101841Z
UID:2829-1671753600-1672703999@www.zskosariska.cz
SUMMARY:Vánoční prázdniny - Ferie zimowe
DESCRIPTION:
URL:https://www.zskosariska.cz/event/vanocni-prazdniny-ferie-zimowe/
END:VEVENT
END:VCALENDAR