BEGIN:VCALENDAR
VERSION:2.0
PRODID:-//ZŠ Košařiska - ECPv5.2.0//NONSGML v1.0//EN
CALSCALE:GREGORIAN
METHOD:PUBLISH
X-WR-CALNAME:ZŠ Košařiska
X-ORIGINAL-URL:https://www.zskosariska.cz
X-WR-CALDESC:Akce na ZŠ Košařiska
BEGIN:VTIMEZONE
TZID:Europe/Prague
BEGIN:DAYLIGHT
TZOFFSETFROM:+0100
TZOFFSETTO:+0200
TZNAME:CEST
DTSTART:20220327T010000
END:DAYLIGHT
BEGIN:STANDARD
TZOFFSETFROM:+0200
TZOFFSETTO:+0100
TZNAME:CET
DTSTART:20221030T010000
END:STANDARD
END:VTIMEZONE
BEGIN:VEVENT
DTSTART;TZID=Europe/Prague:20221216T100000
DTEND;TZID=Europe/Prague:20221216T110000
DTSTAMP:20260421T174642
CREATED:20221206T142954Z
LAST-MODIFIED:20221206T142954Z
UID:3136-1671184800-1671188400@www.zskosariska.cz
SUMMARY:Vánoční představení pro rodiče
DESCRIPTION:
URL:https://www.zskosariska.cz/event/vanocni-predstaveni-pro-rodice/
END:VEVENT
END:VCALENDAR