BEGIN:VCALENDAR
VERSION:2.0
PRODID:-//ZŠ Košařiska - ECPv5.2.0//NONSGML v1.0//EN
CALSCALE:GREGORIAN
METHOD:PUBLISH
X-WR-CALNAME:ZŠ Košařiska
X-ORIGINAL-URL:https://www.zskosariska.cz
X-WR-CALDESC:Akce na ZŠ Košařiska
BEGIN:VTIMEZONE
TZID:Europe/Prague
BEGIN:DAYLIGHT
TZOFFSETFROM:+0100
TZOFFSETTO:+0200
TZNAME:CEST
DTSTART:20210328T010000
END:DAYLIGHT
BEGIN:STANDARD
TZOFFSETFROM:+0200
TZOFFSETTO:+0100
TZNAME:CET
DTSTART:20211031T010000
END:STANDARD
END:VTIMEZONE
BEGIN:VEVENT
DTSTART;TZID=Europe/Prague:20211208T130000
DTEND;TZID=Europe/Prague:20211209T160000
DTSTAMP:20260422T035130
CREATED:20211026T143045Z
LAST-MODIFIED:20211202T060453Z
UID:1532-1638968400-1639065600@www.zskosariska.cz
SUMMARY:Wystawa książek polskich - ODWOŁANA
DESCRIPTION:
URL:https://www.zskosariska.cz/event/wystawa-ksiazek-polskich/
END:VEVENT
END:VCALENDAR