BEGIN:VCALENDAR
VERSION:2.0
PRODID:-//ZŠ Košařiska - ECPv5.2.0//NONSGML v1.0//EN
CALSCALE:GREGORIAN
METHOD:PUBLISH
X-WR-CALNAME:ZŠ Košařiska
X-ORIGINAL-URL:https://www.zskosariska.cz
X-WR-CALDESC:Akce na ZŠ Košařiska
BEGIN:VTIMEZONE
TZID:Europe/Prague
BEGIN:DAYLIGHT
TZOFFSETFROM:+0100
TZOFFSETTO:+0200
TZNAME:CEST
DTSTART:20230326T010000
END:DAYLIGHT
BEGIN:STANDARD
TZOFFSETFROM:+0200
TZOFFSETTO:+0100
TZNAME:CET
DTSTART:20231029T010000
END:STANDARD
END:VTIMEZONE
BEGIN:VEVENT
DTSTART;TZID=Europe/Prague:20230511T080000
DTEND;TZID=Europe/Prague:20230511T160000
DTSTAMP:20260421T145643
CREATED:20230116T140034Z
LAST-MODIFIED:20230116T140034Z
UID:3266-1683792000-1683820800@www.zskosariska.cz
SUMMARY:Zápis do MŠ - Zapisy do przedszkola
DESCRIPTION:
URL:https://www.zskosariska.cz/event/zapis-do-ms-zapisy-do-przedszkola-2/
END:VEVENT
END:VCALENDAR